BEGIN:VCALENDAR
VERSION:2.0
PRODID:-//Fachverlag Thüringen Shop - ECPv6.15.20//NONSGML v1.0//EN
CALSCALE:GREGORIAN
METHOD:PUBLISH
X-ORIGINAL-URL:https://shop.fachverlag-thueringen.de
X-WR-CALDESC:Veranstaltungen für Fachverlag Thüringen Shop
REFRESH-INTERVAL;VALUE=DURATION:PT1H
X-Robots-Tag:noindex
X-PUBLISHED-TTL:PT1H
BEGIN:VTIMEZONE
TZID:Europe/Berlin
BEGIN:DAYLIGHT
TZOFFSETFROM:+0100
TZOFFSETTO:+0200
TZNAME:CEST
DTSTART:20240331T010000
END:DAYLIGHT
BEGIN:STANDARD
TZOFFSETFROM:+0200
TZOFFSETTO:+0100
TZNAME:CET
DTSTART:20241027T010000
END:STANDARD
BEGIN:DAYLIGHT
TZOFFSETFROM:+0100
TZOFFSETTO:+0200
TZNAME:CEST
DTSTART:20250330T010000
END:DAYLIGHT
BEGIN:STANDARD
TZOFFSETFROM:+0200
TZOFFSETTO:+0100
TZNAME:CET
DTSTART:20251026T010000
END:STANDARD
BEGIN:DAYLIGHT
TZOFFSETFROM:+0100
TZOFFSETTO:+0200
TZNAME:CEST
DTSTART:20260329T010000
END:DAYLIGHT
BEGIN:STANDARD
TZOFFSETFROM:+0200
TZOFFSETTO:+0100
TZNAME:CET
DTSTART:20261025T010000
END:STANDARD
END:VTIMEZONE
BEGIN:VEVENT
DTSTART;TZID=Europe/Berlin:20250123T090000
DTEND;TZID=Europe/Berlin:20250123T110000
DTSTAMP:20260421T211339
CREATED:20241219T123831Z
LAST-MODIFIED:20250110T140950Z
UID:2729-1737622800-1737630000@shop.fachverlag-thueringen.de
SUMMARY:Medienfrühstück Vol. 5: MediaSoljanka - Dein Rezept für smartes Videomarketing
DESCRIPTION:MediaSoljanka – Eine Prise Mut\, ein Löffel Kreativität\, ein Schuss Kundenwunsch?\nMit Jonas Turtschan und Lucian Engelbrecht liefern Dir zwei Produktionsexperten ein solides Rezept für Dein Videomarketing. \n  \nEin Unternehmensfilm ist wie ein gutes Gericht: Er braucht die richtigen Zutaten\, eine klare Vision und ein Team\, das alles perfekt abschmeckt. Die Zusammenarbeit von Marketing Teams\, Unternehmern und Filmemachern ist dabei so wichtig wie das Salz im Nudelwasser – ohne wirds halt einfach nicht gut. Lucian und Jonas gehen Schritt für Schritt die größten Fragezeichen einer Filmproduktion durch. Vom Briefing\, über die Konzeption und den Dreh\, bis hin zur Premiere. \n  \nWelche Learnings Dich erwarten?\nRühren\, köcheln\, abschmecken\, servieren: was es für ein smartes Videomarketing braucht: \n\nWie muss Dein Briefing für einen Produktionspartner aussehen\, damit Deine Idee Realität wird?\nWillst Du süss oder salzig: Authentizität oder Hochglanzfinish?\nZeit ist Geld? Was kostet eine ordentliche Filmproduktion überhaupt? Ist „länger“ wirklich teurer?\nNDAs\, Produktionsräume\, Schutz von Persönlichkeitsrechten: Welcher technische\, personelle\, organisatorische und zeitliche Aufwand erwartet Dich als Auftraggeber\, bevor die Filmcrew anrückt?\nMehr geht immer: ergibt eine Videoproduktion für Dein Unternehmen überhaupt Sinn?\nFilm im Kasten. Und nun? Zufrieden?\nSchmecken muss es! Wie die 3-Sekunden-Aufmerksamkeitsspanne und Dein 7-Minuten-Imagefilm am Ende doch noch zusammenfinden.\n\n  \nOb Imagefilm\, Spot oder Reel – es stecken einige Knackpunkte im Thema. Lucian und Jonas erklären Dir\, worauf es für Dich als Medienverantwortlicher ankommt\, Du nicht 100 Stunden extra Aufwand haben willst\, Deine Idee fliegen\, Dein Anwalt nicht noch mehr an Dir verdienen und Dein Unternehmen nicht darunter leiden soll – sondern sich im besten Fall Leute bei Euch bewerben. Oder kaufen. Denn das ist das\, was Videomarketing soll: Dein Unternehmen\, Team oder Produkt geschmackvoll ins richtige Licht rücken.
URL:https://shop.fachverlag-thueringen.de/event/medienfruehstueck-vol-5-mediasoljanka/
LOCATION:STUDIOPARK KinderMedienZentrum: Wöpkes Kantine\, Erich-Kästner-Straße 1\, Erfurt\, 99094
ATTACH;FMTTYPE=image/png:https://shop.fachverlag-thueringen.de/wp-content/uploads/2024/12/Eventheader-LI-12.png
ORGANIZER;CN="FVT Fachverlag Th%C3%BCringen UG (haftungsbeschr%C3%A4nkt)":MAILTO:info@fachverlag-thueringen.de
END:VEVENT
END:VCALENDAR